BEGIN:VCALENDAR
VERSION:2.0
PRODID:-//Sioux Falls Community Blood Bank - ECPv6.15.20//NONSGML v1.0//EN
CALSCALE:GREGORIAN
METHOD:PUBLISH
X-WR-CALNAME:Sioux Falls Community Blood Bank
X-ORIGINAL-URL:https://cbblifeblood.org
X-WR-CALDESC:Events for Sioux Falls Community Blood Bank
REFRESH-INTERVAL;VALUE=DURATION:PT1H
X-Robots-Tag:noindex
X-PUBLISHED-TTL:PT1H
BEGIN:VTIMEZONE
TZID:America/Chicago
BEGIN:DAYLIGHT
TZOFFSETFROM:-0600
TZOFFSETTO:-0500
TZNAME:CDT
DTSTART:20250309T080000
END:DAYLIGHT
BEGIN:STANDARD
TZOFFSETFROM:-0500
TZOFFSETTO:-0600
TZNAME:CST
DTSTART:20251102T070000
END:STANDARD
BEGIN:DAYLIGHT
TZOFFSETFROM:-0600
TZOFFSETTO:-0500
TZNAME:CDT
DTSTART:20260308T080000
END:DAYLIGHT
BEGIN:STANDARD
TZOFFSETFROM:-0500
TZOFFSETTO:-0600
TZNAME:CST
DTSTART:20261101T070000
END:STANDARD
BEGIN:DAYLIGHT
TZOFFSETFROM:-0600
TZOFFSETTO:-0500
TZNAME:CDT
DTSTART:20270314T080000
END:DAYLIGHT
BEGIN:STANDARD
TZOFFSETFROM:-0500
TZOFFSETTO:-0600
TZNAME:CST
DTSTART:20271107T070000
END:STANDARD
END:VTIMEZONE
BEGIN:VEVENT
DTSTART;TZID=America/Chicago:20260421T080000
DTEND;TZID=America/Chicago:20260421T160000
DTSTAMP:20260421T151844
CREATED:20260317T181517Z
LAST-MODIFIED:20260317T182155Z
UID:10006350-1776758400-1776787200@cbblifeblood.org
SUMMARY:Lloyd Companies\, Sioux Falls\, SD
DESCRIPTION:Making a difference in our community patients one donation at time.
URL:https://cbblifeblood.org/blood-drive-calendar/lloyd-companies-sioux-falls-sd-2/
LOCATION:Lloyd Companies\, 101 S. Reed Avenue\, Sioux Falls\, SD\, 57104\, United States
CATEGORIES:Closed to Public
END:VEVENT
BEGIN:VEVENT
DTSTART;TZID=America/Chicago:20260421T130000
DTEND;TZID=America/Chicago:20260421T163000
DTSTAMP:20260421T151844
CREATED:20260317T175427Z
LAST-MODIFIED:20260317T175427Z
UID:10006349-1776776400-1776789000@cbblifeblood.org
SUMMARY:Pivotal Health Solutions\, Watertown\, SD
DESCRIPTION:Saving lives in our community and impacting friends\, neighbors\, and community members through blood donation.
URL:https://cbblifeblood.org/blood-drive-calendar/pivotal-health-solutions-watertown-sd/
LOCATION:Pivotal Health Solutions\, 3003 9th Avenue SW\, Watertown\, SD\, 57201\, United States
CATEGORIES:Closed to Public
END:VEVENT
BEGIN:VEVENT
DTSTART;TZID=America/Chicago:20260421T140000
DTEND;TZID=America/Chicago:20260421T170000
DTSTAMP:20260421T151844
CREATED:20260317T173140Z
LAST-MODIFIED:20260317T173141Z
UID:10006347-1776780000-1776790800@cbblifeblood.org
SUMMARY:Murray County Medical Center\, Slayton\, MN
DESCRIPTION:Help local patients in need requiring a blood transfusion by scheduling your donation today: https://www.signupgenius.com/go/mcmcapril21#/
URL:https://cbblifeblood.org/blood-drive-calendar/murray-county-medical-center-slayton-mn-7/
LOCATION:Murray County Medical Center\, 2042 Juniper Avenue\, Slayton\, SD\, 56172\, United States
CATEGORIES:Open to Public
ATTACH;FMTTYPE=image/jpeg:https://cbblifeblood.org/wp-content/uploads/2026/01/70D58689512735E15C84AFA7921F186A_80808397.jpg
END:VEVENT
BEGIN:VEVENT
DTSTART;TZID=America/Chicago:20260422T073000
DTEND;TZID=America/Chicago:20260422T150000
DTSTAMP:20260421T151844
CREATED:20260317T183256Z
LAST-MODIFIED:20260317T183257Z
UID:10006352-1776843000-1776870000@cbblifeblood.org
SUMMARY:Rock Valley High School\, Rock Valley\, IA
DESCRIPTION:Join us to provide life-saving blood for local patients in need. Call 712-476-2701 to schedule an appointment.
URL:https://cbblifeblood.org/blood-drive-calendar/rock-valley-high-school-rock-valley-ia-4/
LOCATION:Rock Valley High School\, 1712 20th Avenue\, Rock Valley\, SD\, 51247\, United States
CATEGORIES:Open to Public
ATTACH;FMTTYPE=image/jpeg:https://cbblifeblood.org/wp-content/uploads/2025/10/highschoolbluelocker.jpg
END:VEVENT
BEGIN:VEVENT
DTSTART;TZID=America/Chicago:20260422T080000
DTEND;TZID=America/Chicago:20260422T153000
DTSTAMP:20260421T151844
CREATED:20260317T182845Z
LAST-MODIFIED:20260317T182846Z
UID:10006351-1776844800-1776871800@cbblifeblood.org
SUMMARY:Brandon Valley High School\, Brandon\, SD
DESCRIPTION:Blood donations are needed to maintain a strong supply for local hospital patients going through serious medical issues. Click the link to save lives:https://www.signupgenius.com/go/bvhsapril22#/  
URL:https://cbblifeblood.org/blood-drive-calendar/brandon-valley-high-school-brandon-sd-11/
LOCATION:Brandon Valley High School\, 301 S. Splitrock Blvd\, Brandon\, SD\, 57005\, United States
CATEGORIES:Open to Public
ATTACH;FMTTYPE=image/jpeg:https://cbblifeblood.org/wp-content/uploads/2025/08/1E6867FB5A837805859EF8A1E2132D68_80808397.jpg
END:VEVENT
BEGIN:VEVENT
DTSTART;TZID=America/Chicago:20260423T080000
DTEND;TZID=America/Chicago:20260423T153000
DTSTAMP:20260421T151844
CREATED:20260317T183849Z
LAST-MODIFIED:20260317T183851Z
UID:10006353-1776931200-1776958200@cbblifeblood.org
SUMMARY:Brandon Valley High School\, Brandon\, SD
DESCRIPTION:Blood donations are needed to maintain a strong supply for local hospital patients going through serious medical issues. Click the link to save lives: https://www.signupgenius.com/go/brandonvalleyhsapril23#/
URL:https://cbblifeblood.org/blood-drive-calendar/brandon-valley-high-school-brandon-sd-12/
LOCATION:Brandon Valley High School\, 301 S. Splitrock Blvd\, Brandon\, SD\, 57005\, United States
CATEGORIES:Open to Public
ATTACH;FMTTYPE=image/jpeg:https://cbblifeblood.org/wp-content/uploads/2025/10/kids2.jpg
END:VEVENT
BEGIN:VEVENT
DTSTART;TZID=America/Chicago:20260423T080000
DTEND;TZID=America/Chicago:20260423T153000
DTSTAMP:20260421T151844
CREATED:20260317T185729Z
LAST-MODIFIED:20260317T185741Z
UID:10006354-1776931200-1776958200@cbblifeblood.org
SUMMARY:West Central High School\, Hartford\, SD
DESCRIPTION:Join in and make the difference in local patients requiring a blood transfusion. Call 605-528-6236 to schedule an appointment.
URL:https://cbblifeblood.org/blood-drive-calendar/west-central-high-school-hartford-sd-4/
LOCATION:West Central High School\, 705 E. 2nd Street\, Hartford\, SD\, 57033\, United States
CATEGORIES:Open to Public
ATTACH;FMTTYPE=image/jpeg:https://cbblifeblood.org/wp-content/uploads/2025/08/shutterstock_664606096-scaled.jpg
END:VEVENT
BEGIN:VEVENT
DTSTART;TZID=America/Chicago:20260424T073000
DTEND;TZID=America/Chicago:20260424T103000
DTSTAMP:20260421T151844
CREATED:20260317T192321Z
LAST-MODIFIED:20260317T192321Z
UID:10006356-1777015800-1777026600@cbblifeblood.org
SUMMARY:Sioux Falls School District Central Services\, Sioux Falls\, SD
DESCRIPTION:Saving local lives by giving blood with Community Blood Bank.
URL:https://cbblifeblood.org/blood-drive-calendar/sioux-falls-school-district-central-services-sioux-falls-sd-2/
LOCATION:SF School District Central Services\, 1101 N. Western Avenue\, Sioux Falls\, SD\, 57104\, United States
CATEGORIES:Closed to Public
END:VEVENT
BEGIN:VEVENT
DTSTART;TZID=America/Chicago:20260424T083000
DTEND;TZID=America/Chicago:20260424T153000
DTSTAMP:20260421T151844
CREATED:20260317T191422Z
LAST-MODIFIED:20260317T191424Z
UID:10006355-1777019400-1777044600@cbblifeblood.org
SUMMARY:Lennox High School\, Lennox\, SD
DESCRIPTION:Join in and make the difference in local patients requiring a blood transfusion. Call 605-647-2203 to schedule an appointment.
URL:https://cbblifeblood.org/blood-drive-calendar/lennox-high-school-lennox-sd-2/
LOCATION:Lennox High School\, 208 W. 5th Street\, Lennox\, SD\, 57039\, United States
CATEGORIES:Open to Public
ATTACH;FMTTYPE=image/jpeg:https://cbblifeblood.org/wp-content/uploads/2025/07/IMG_0985-scaled.jpg
END:VEVENT
BEGIN:VEVENT
DTSTART;TZID=America/Chicago:20260424T123000
DTEND;TZID=America/Chicago:20260424T160000
DTSTAMP:20260421T151844
CREATED:20260317T193140Z
LAST-MODIFIED:20260325T201414Z
UID:10006357-1777033800-1777046400@cbblifeblood.org
SUMMARY:Look's Market\, Sioux Falls\, SD
DESCRIPTION:oin us to provide life-saving blood for local patients in need. Click HERE to schedule your appointment.
URL:https://cbblifeblood.org/blood-drive-calendar/looks-market-sioux-falls-sd-4/
LOCATION:Look’s Marketplace\, 500 E. 69th Street\, Sioux Falls\, SD\, 57108
CATEGORIES:Open to Public
ATTACH;FMTTYPE=image/jpeg:https://cbblifeblood.org/wp-content/uploads/2025/12/44E6E546C703BFCAD564115E83BC27C4_80808397.jpg
END:VEVENT
BEGIN:VEVENT
DTSTART;TZID=America/Chicago:20260426T080000
DTEND;TZID=America/Chicago:20260426T170000
DTSTAMP:20260421T151844
CREATED:20260317T193351Z
LAST-MODIFIED:20260317T193352Z
UID:10006358-1777190400-1777222800@cbblifeblood.org
SUMMARY:Memorial Lutheran Church\, Sioux Falls\, SD
DESCRIPTION:Join in and make the difference in local patients requiring a blood transfusion. Call 605-334-7133 to schedule an appointment.
URL:https://cbblifeblood.org/blood-drive-calendar/memorial-lutheran-church-sioux-falls-sd/
LOCATION:Memorial Lutheran Church\, 5000 S. Western Avenue\, Sioux Falls\, SD\, 57108\, United States
CATEGORIES:Open to Public
ATTACH;FMTTYPE=image/jpeg:https://cbblifeblood.org/wp-content/uploads/2025/10/church.jpg
END:VEVENT
BEGIN:VEVENT
DTSTART;TZID=America/Chicago:20260427T090000
DTEND;TZID=America/Chicago:20260427T163000
DTSTAMP:20260421T151844
CREATED:20260324T190403Z
LAST-MODIFIED:20260324T203137Z
UID:10006360-1777280400-1777307400@cbblifeblood.org
SUMMARY:Windom Area Health\, Windom\, MN
DESCRIPTION:Impacting the lives of local patients through blood donation. Click the link to schedule your donation today: https://www.signupgenius.com/go/windomapril27#/
URL:https://cbblifeblood.org/blood-drive-calendar/windom-area-health-windom-mn-2/
LOCATION:Windom Area Health\, 2150 Hospital Drive\, Windom\, MN\, 56101\, United States
CATEGORIES:Open to Public
ATTACH;FMTTYPE=image/jpeg:https://cbblifeblood.org/wp-content/uploads/2025/12/44E6E546C703BFCAD564115E83BC27C4_80808397.jpg
END:VEVENT
BEGIN:VEVENT
DTSTART;TZID=America/Chicago:20260427T100000
DTEND;TZID=America/Chicago:20260427T170000
DTSTAMP:20260421T151844
CREATED:20260324T185315Z
LAST-MODIFIED:20260324T185316Z
UID:10006359-1777284000-1777309200@cbblifeblood.org
SUMMARY:Augustana University\, Sioux Falls\, SD
DESCRIPTION:We need your help to keep the local blood supply strong. Click the link to schedule your donation today: https://www.signupgenius.com/go/augieapril27#/
URL:https://cbblifeblood.org/blood-drive-calendar/augustana-university-sioux-falls-sd-7/
LOCATION:Augustana University\, 2001 S. Summit Avenue\, Sioux Falls\, SD\, 57197\, United States
CATEGORIES:Open to Public
ATTACH;FMTTYPE=image/jpeg:https://cbblifeblood.org/wp-content/uploads/2025/07/shutterstock_110960081-scaled.jpg
END:VEVENT
BEGIN:VEVENT
DTSTART;TZID=America/Chicago:20260428T073000
DTEND;TZID=America/Chicago:20260428T160000
DTSTAMP:20260421T151844
CREATED:20260324T190808Z
LAST-MODIFIED:20260324T190808Z
UID:10006361-1777361400-1777392000@cbblifeblood.org
SUMMARY:Sioux Falls Christian School\, Sioux Falls\, SD
DESCRIPTION:Help local patients in need requiring a blood transfusion by scheduling your donation today.
URL:https://cbblifeblood.org/blood-drive-calendar/sioux-falls-christian-school-sioux-falls-sd-2/
LOCATION:Sioux Falls Christian School\, 6120 S. Charger Avenue\, Sioux Falls\, SD\, 57108\, United States
CATEGORIES:Closed to Public
END:VEVENT
BEGIN:VEVENT
DTSTART;TZID=America/Chicago:20260428T090000
DTEND;TZID=America/Chicago:20260428T170000
DTSTAMP:20260421T151844
CREATED:20260324T191028Z
LAST-MODIFIED:20260324T191029Z
UID:10006362-1777366800-1777395600@cbblifeblood.org
SUMMARY:Sanford Vermillion Medical Center\, Vermillion\, SD
DESCRIPTION:Join us to save the lives of our local patients by donating blood at this community event. Click the link to schedule your donation: https://www.signupgenius.com/go/vermillionapril28#/
URL:https://cbblifeblood.org/blood-drive-calendar/sanford-vermillion-medical-center-vermillion-sd-2/
LOCATION:Sanford Vermillion Medical Center\, 20 S. Plum Street\, Vermillion\, SD\, 57069\, United States
CATEGORIES:Open to Public
ATTACH;FMTTYPE=image/jpeg:https://cbblifeblood.org/wp-content/uploads/2025/12/glovedblood.jpg
END:VEVENT
BEGIN:VEVENT
DTSTART;TZID=America/Chicago:20260429T080000
DTEND;TZID=America/Chicago:20260429T150000
DTSTAMP:20260421T151844
CREATED:20260324T191255Z
LAST-MODIFIED:20260324T191320Z
UID:10006363-1777449600-1777474800@cbblifeblood.org
SUMMARY:Sibley-Ocheyedan High School\, Sioux Falls\, SD
DESCRIPTION:Join us to provide life-saving blood for local patients in need. Call 712-754-7234 to schedule an appointment.
URL:https://cbblifeblood.org/blood-drive-calendar/sibley-ocheyedan-high-school-sioux-falls-sd/
LOCATION:Sibley-Ocheyedan High School\, 120 11th Avenue NE\, Sibley\, SD\, 51249\, United States
CATEGORIES:Open to Public
ATTACH;FMTTYPE=image/jpeg:https://cbblifeblood.org/wp-content/uploads/2025/12/drop.jpg
END:VEVENT
BEGIN:VEVENT
DTSTART;TZID=America/Chicago:20260429T090000
DTEND;TZID=America/Chicago:20260429T153000
DTSTAMP:20260421T151844
CREATED:20260324T192348Z
LAST-MODIFIED:20260324T192349Z
UID:10006365-1777453200-1777476600@cbblifeblood.org
SUMMARY:Tea Area High School\, Tea\, SD
DESCRIPTION:Join us to save the lives of our local patients by donating blood at this community event. Please call 605-498-2700 option 3 to schedule an appointment.
URL:https://cbblifeblood.org/blood-drive-calendar/tea-area-high-school-tea-sd-2/
LOCATION:Tea Area High School\, 500 W. Brian Street\, Sioux Falls\, SD\, 57064\, United States
CATEGORIES:Open to Public
ATTACH;FMTTYPE=image/jpeg:https://cbblifeblood.org/wp-content/uploads/2025/08/shutterstock_664606096-scaled.jpg
END:VEVENT
BEGIN:VEVENT
DTSTART;TZID=America/Chicago:20260429T090000
DTEND;TZID=America/Chicago:20260429T160000
DTSTAMP:20260421T151844
CREATED:20260324T192001Z
LAST-MODIFIED:20260324T192003Z
UID:10006364-1777453200-1777478400@cbblifeblood.org
SUMMARY:Vermillion High School\, Vermillion\, SD
DESCRIPTION:We need your help to keep the local blood supply strong in Vermillion and surrounding communities. Please call 605-677-7035 to schedule an appointment.
URL:https://cbblifeblood.org/blood-drive-calendar/vermillion-high-school-vermillion-sd-4/
LOCATION:Vermillion High School\, 1001 E. Main Street\, Vermillion\, SD\, 57069\, United States
CATEGORIES:Open to Public
ATTACH;FMTTYPE=image/jpeg:https://cbblifeblood.org/wp-content/uploads/2025/10/hearttype.jpg
END:VEVENT
BEGIN:VEVENT
DTSTART;TZID=America/Chicago:20260430T070000
DTEND;TZID=America/Chicago:20260430T110000
DTSTAMP:20260421T151844
CREATED:20260324T200955Z
LAST-MODIFIED:20260324T200955Z
UID:10006368-1777532400-1777546800@cbblifeblood.org
SUMMARY:Xcel Energy\, Sioux Falls\, SD
DESCRIPTION:Join us to provide life-saving blood for local patients in need.
URL:https://cbblifeblood.org/blood-drive-calendar/xcel-energy-sioux-falls-sd-2/
LOCATION:Xcel Energy\, 500 W. Russell Street\, Sioux Falls\, SD\, 57101\, United States
CATEGORIES:Closed to Public
END:VEVENT
BEGIN:VEVENT
DTSTART;TZID=America/Chicago:20260430T080000
DTEND;TZID=America/Chicago:20260430T110000
DTSTAMP:20260421T151844
CREATED:20260324T194046Z
LAST-MODIFIED:20260324T194046Z
UID:10006366-1777536000-1777546800@cbblifeblood.org
SUMMARY:Brookings Municipal Utilities\, Brookings\, SD
DESCRIPTION:We need your help to keep the local blood supply strong.
URL:https://cbblifeblood.org/blood-drive-calendar/brookings-municipal-utilities-brookings-sd-4/
LOCATION:Brookings Municipal Utilites\, 525 Western Avenue\, Brookings\, SD\, 57006\, United States
CATEGORIES:Closed to Public
END:VEVENT
BEGIN:VEVENT
DTSTART;TZID=America/Chicago:20260430T130000
DTEND;TZID=America/Chicago:20260430T160000
DTSTAMP:20260421T151844
CREATED:20260324T200822Z
LAST-MODIFIED:20260324T200823Z
UID:10006367-1777554000-1777564800@cbblifeblood.org
SUMMARY:First Bank and Trust- East Branch\, Brookings\, SD
DESCRIPTION:Help local patients in need requiring a blood transfusion by scheduling your donation today: https://www.signupgenius.com/go/fbtapril30#/
URL:https://cbblifeblood.org/blood-drive-calendar/first-bank-and-trust-east-branch-brookings-sd/
LOCATION:First Bank and Trust Brookings\, 520 6th Street\, Brookings\, SD\, 57006\, United States
CATEGORIES:Open to Public
ATTACH;FMTTYPE=image/jpeg:https://cbblifeblood.org/wp-content/uploads/2026/01/560D37C14C6AD50578DC0F7CD38C2ADB_80808397.jpg
END:VEVENT
BEGIN:VEVENT
DTSTART;TZID=America/Chicago:20260430T130000
DTEND;TZID=America/Chicago:20260430T160000
DTSTAMP:20260421T151844
CREATED:20260324T201501Z
LAST-MODIFIED:20260324T201501Z
UID:10006369-1777554000-1777564800@cbblifeblood.org
SUMMARY:Allen Edge Real Estate Team\, Sioux Falls\, SD
DESCRIPTION:Join us to provide life-saving blood for local patients in need. Click HERE to schedule your appointment.
URL:https://cbblifeblood.org/blood-drive-calendar/allen-edge-real-estate-team-sioux-falls-sd/
LOCATION:Allen Edge Real Estate Team\, 6245 S. Pinnacle Place Ste 102\, Sioux Falls\, SD\, 57108\, United States
CATEGORIES:Closed to Public
END:VEVENT
BEGIN:VEVENT
DTSTART;TZID=America/Chicago:20260501T080000
DTEND;TZID=America/Chicago:20260501T140000
DTSTAMP:20260421T151844
CREATED:20260324T201859Z
LAST-MODIFIED:20260324T202907Z
UID:10006370-1777622400-1777644000@cbblifeblood.org
SUMMARY:First National Bank\, Brandon\, SD
DESCRIPTION:Help local patients in need requiring a blood transfusion by scheduling your donation today: https://www.signupgenius.com/go/bfnbmay1#/
URL:https://cbblifeblood.org/blood-drive-calendar/first-national-bank-brandon-sd/
LOCATION:First National Bank Brandon\, 101 S. Splitrock Blvd\, Brandon\, SD\, 57005\, United States
CATEGORIES:Open to Public
ATTACH;FMTTYPE=image/jpeg:https://cbblifeblood.org/wp-content/uploads/2025/12/blueshirt.jpg
END:VEVENT
BEGIN:VEVENT
DTSTART;TZID=America/Chicago:20260501T080000
DTEND;TZID=America/Chicago:20260501T150000
DTSTAMP:20260421T151844
CREATED:20260324T202224Z
LAST-MODIFIED:20260324T202224Z
UID:10006371-1777622400-1777647600@cbblifeblood.org
SUMMARY:Sioux Falls Specialty Hospital\, Sioux Falls\, SD
DESCRIPTION:Impacting the lives of our local patients. Click the link to schedule your donation: https://www.signupgenius.com/go/sfspecialtymay1#/
URL:https://cbblifeblood.org/blood-drive-calendar/sioux-falls-specialty-hospital-sioux-falls-sd-2/
LOCATION:Sioux Falls Specialty Hospital\, 910 E. 20th Street\, Sioux Falls\, SD\, 57103\, United States
CATEGORIES:Closed to Public
END:VEVENT
BEGIN:VEVENT
DTSTART;TZID=America/Chicago:20260503T083000
DTEND;TZID=America/Chicago:20260503T120000
DTSTAMP:20260421T151844
CREATED:20260324T202521Z
LAST-MODIFIED:20260324T202522Z
UID:10006372-1777797000-1777809600@cbblifeblood.org
SUMMARY:Gloria Dei Lutheran Church\, Sioux Falls\, SD
DESCRIPTION:Join us to save the lives of our local patients by donating blood at this community event. Click the link to schedule your donation: https://www.signupgenius.com/go/gloriadeimay3#/
URL:https://cbblifeblood.org/blood-drive-calendar/gloria-dei-lutheran-church-sioux-falls-sd-5/
LOCATION:Gloria Dei Lutheran Church\, 5500 E. 57th Street\, Sioux Falls\, SD\, 57108\, United States
CATEGORIES:Open to Public
ATTACH;FMTTYPE=image/jpeg:https://cbblifeblood.org/wp-content/uploads/2025/10/church.jpg
END:VEVENT
BEGIN:VEVENT
DTSTART;TZID=America/Chicago:20260504T080000
DTEND;TZID=America/Chicago:20260504T150000
DTSTAMP:20260421T151844
CREATED:20260401T152725Z
LAST-MODIFIED:20260401T152725Z
UID:10006375-1777881600-1777906800@cbblifeblood.org
SUMMARY:Career & Technical Education Academy\, Sioux Falls\, SD
DESCRIPTION:Join in to keep our local blood supply strong and saving local patients lives. Click the link to schedule your donation: https://www.signupgenius.com/go/ctemay4#/
URL:https://cbblifeblood.org/blood-drive-calendar/career-technical-education-academy-sioux-falls-sd/
LOCATION:Career & Technical Education Academy (CTE)\, 4700 W. Career Circle\, Sioux Falls\, 57106\, United States
CATEGORIES:Closed to Public
END:VEVENT
BEGIN:VEVENT
DTSTART;TZID=America/Chicago:20260504T083000
DTEND;TZID=America/Chicago:20260504T113000
DTSTAMP:20260421T151844
CREATED:20260401T152425Z
LAST-MODIFIED:20260401T163138Z
UID:10006373-1777883400-1777894200@cbblifeblood.org
SUMMARY:Pleasant Valley Colony\, Flandreau\, SD
DESCRIPTION:
URL:https://cbblifeblood.org/blood-drive-calendar/pleasant-valley-colony-flandreau-sd-7/
LOCATION:Pleasant Valley Colony\, 22941 487th Avenue\, Flandreau\, SD\, 57028\, United States
CATEGORIES:Blood Drive
END:VEVENT
BEGIN:VEVENT
DTSTART;TZID=America/Chicago:20260504T140000
DTEND;TZID=America/Chicago:20260504T153000
DTSTAMP:20260421T151844
CREATED:20260401T152526Z
LAST-MODIFIED:20260401T163220Z
UID:10006374-1777903200-1777908600@cbblifeblood.org
SUMMARY:Newdale Colony\, Elkton\, SD
DESCRIPTION:
URL:https://cbblifeblood.org/blood-drive-calendar/newdale-colony-elkton-sd-7/
LOCATION:Newdale Colony\, 21336 484th Avenue\, Elkton\, SD\, 57026\, United States
CATEGORIES:Blood Drive
END:VEVENT
BEGIN:VEVENT
DTSTART;TZID=America/Chicago:20260505T080000
DTEND;TZID=America/Chicago:20260505T150000
DTSTAMP:20260421T151844
CREATED:20260401T154113Z
LAST-MODIFIED:20260401T154114Z
UID:10006377-1777968000-1777993200@cbblifeblood.org
SUMMARY:Prairie Lakes Specialty Clinic\, Watertown\, SD
DESCRIPTION:Impacting the lives of local patients through blood donation. Click the link to schedule your donation today: https://www.signupgenius.com/go/prairielakesspecmay5#/
URL:https://cbblifeblood.org/blood-drive-calendar/prairie-lakes-specialty-clinic-watertown-sd-2/
LOCATION:Prairie Lakes Specialty Clinic\, 401 9th Avenue NW\, Watertown\, SD\, 57201\, United States
CATEGORIES:Open to Public
ATTACH;FMTTYPE=image/jpeg:https://cbblifeblood.org/wp-content/uploads/2026/04/bloodbag.jpg
END:VEVENT
BEGIN:VEVENT
DTSTART;TZID=America/Chicago:20260505T090000
DTEND;TZID=America/Chicago:20260505T163000
DTSTAMP:20260421T151844
CREATED:20260401T153558Z
LAST-MODIFIED:20260401T153558Z
UID:10006376-1777971600-1777998600@cbblifeblood.org
SUMMARY:Terex Utilities\, Watertown\, SD
DESCRIPTION:We need your help to keep the local blood supply strong.
URL:https://cbblifeblood.org/blood-drive-calendar/terex-utilities-watertown-sd-7/
LOCATION:Terex Utilities\, 500 Oakwood Road\, Watertown\, 57201\, United States
CATEGORIES:Closed to Public
END:VEVENT
END:VCALENDAR