BEGIN:VCALENDAR
VERSION:2.0
PRODID:-//Sioux Falls Community Blood Bank - ECPv6.15.20//NONSGML v1.0//EN
CALSCALE:GREGORIAN
METHOD:PUBLISH
X-ORIGINAL-URL:https://cbblifeblood.org
X-WR-CALDESC:Events for Sioux Falls Community Blood Bank
REFRESH-INTERVAL;VALUE=DURATION:PT1H
X-Robots-Tag:noindex
X-PUBLISHED-TTL:PT1H
BEGIN:VTIMEZONE
TZID:America/Chicago
BEGIN:DAYLIGHT
TZOFFSETFROM:-0600
TZOFFSETTO:-0500
TZNAME:CDT
DTSTART:20250309T080000
END:DAYLIGHT
BEGIN:STANDARD
TZOFFSETFROM:-0500
TZOFFSETTO:-0600
TZNAME:CST
DTSTART:20251102T070000
END:STANDARD
BEGIN:DAYLIGHT
TZOFFSETFROM:-0600
TZOFFSETTO:-0500
TZNAME:CDT
DTSTART:20260308T080000
END:DAYLIGHT
BEGIN:STANDARD
TZOFFSETFROM:-0500
TZOFFSETTO:-0600
TZNAME:CST
DTSTART:20261101T070000
END:STANDARD
BEGIN:DAYLIGHT
TZOFFSETFROM:-0600
TZOFFSETTO:-0500
TZNAME:CDT
DTSTART:20270314T080000
END:DAYLIGHT
BEGIN:STANDARD
TZOFFSETFROM:-0500
TZOFFSETTO:-0600
TZNAME:CST
DTSTART:20271107T070000
END:STANDARD
END:VTIMEZONE
BEGIN:VEVENT
DTSTART;TZID=America/Chicago:20260106T133000
DTEND;TZID=America/Chicago:20260106T160000
DTSTAMP:20260419T184826
CREATED:20251202T164447Z
LAST-MODIFIED:20251202T164447Z
UID:10006145-1767706200-1767715200@cbblifeblood.org
SUMMARY:Avera Health Plans and Bluepeak\, Sioux Falls\, SD
DESCRIPTION:Join in and make the difference in local patients requiring a blood transfusion. Click the link to schedule your donation today:  https://www.signupgenius.com/go/avbluejan6#/
URL:https://cbblifeblood.org/blood-drive-calendar/avera-health-plans-and-bluepeak-sioux-falls-sd/
LOCATION:Avera Health Plans\, 5300 S. Broadband Lane\, Sioux Falls\, SD\, 57108\, United States
CATEGORIES:Closed to Public
END:VEVENT
END:VCALENDAR