BEGIN:VCALENDAR
VERSION:2.0
PRODID:-//Sioux Falls Community Blood Bank - ECPv6.15.20//NONSGML v1.0//EN
CALSCALE:GREGORIAN
METHOD:PUBLISH
X-WR-CALNAME:Sioux Falls Community Blood Bank
X-ORIGINAL-URL:https://cbblifeblood.org
X-WR-CALDESC:Events for Sioux Falls Community Blood Bank
REFRESH-INTERVAL;VALUE=DURATION:PT1H
X-Robots-Tag:noindex
X-PUBLISHED-TTL:PT1H
BEGIN:VTIMEZONE
TZID:America/Chicago
BEGIN:DAYLIGHT
TZOFFSETFROM:-0600
TZOFFSETTO:-0500
TZNAME:CDT
DTSTART:20240310T080000
END:DAYLIGHT
BEGIN:STANDARD
TZOFFSETFROM:-0500
TZOFFSETTO:-0600
TZNAME:CST
DTSTART:20241103T070000
END:STANDARD
BEGIN:DAYLIGHT
TZOFFSETFROM:-0600
TZOFFSETTO:-0500
TZNAME:CDT
DTSTART:20250309T080000
END:DAYLIGHT
BEGIN:STANDARD
TZOFFSETFROM:-0500
TZOFFSETTO:-0600
TZNAME:CST
DTSTART:20251102T070000
END:STANDARD
BEGIN:DAYLIGHT
TZOFFSETFROM:-0600
TZOFFSETTO:-0500
TZNAME:CDT
DTSTART:20260308T080000
END:DAYLIGHT
BEGIN:STANDARD
TZOFFSETFROM:-0500
TZOFFSETTO:-0600
TZNAME:CST
DTSTART:20261101T070000
END:STANDARD
BEGIN:DAYLIGHT
TZOFFSETFROM:-0600
TZOFFSETTO:-0500
TZNAME:CDT
DTSTART:20270314T080000
END:DAYLIGHT
BEGIN:STANDARD
TZOFFSETFROM:-0500
TZOFFSETTO:-0600
TZNAME:CST
DTSTART:20271107T070000
END:STANDARD
END:VTIMEZONE
BEGIN:VEVENT
DTSTART;TZID=America/Chicago:20260410T070000
DTEND;TZID=America/Chicago:20260410T153000
DTSTAMP:20260420T111804
CREATED:20260303T171943Z
LAST-MODIFIED:20260303T171944Z
UID:10006328-1775804400-1775835000@cbblifeblood.org
SUMMARY:Baltic High School\, Baltic\, SD
DESCRIPTION:Join us to save the lives of our local patients by donating blood at this community event. Click the link to schedule your donation: https://www.signupgenius.com/go/baltichsapril10#/
URL:https://cbblifeblood.org/blood-drive-calendar/baltic-high-school-baltic-sd-4/
LOCATION:Baltic High School\, 1 Bulldog Avenue\, Baltic\, SD\, 57003\, United States
CATEGORIES:Open to Public
ATTACH;FMTTYPE=image/jpeg:https://cbblifeblood.org/wp-content/uploads/2025/12/17895E6177D2B1A9DA810040BF0A56CE_80808397.jpg
END:VEVENT
BEGIN:VEVENT
DTSTART;TZID=America/Chicago:20251114T070000
DTEND;TZID=America/Chicago:20251114T153000
DTSTAMP:20260420T111804
CREATED:20251006T192044Z
LAST-MODIFIED:20251006T192045Z
UID:10006051-1763103600-1763134200@cbblifeblood.org
SUMMARY:Baltic High School\, Baltic\, SD
DESCRIPTION:We need your help to keep the local blood supply strong in Baltic  and surrounding communities. Click the link to schedule your donation today: https://www.signupgenius.com/go/baltichsnov14#/
URL:https://cbblifeblood.org/blood-drive-calendar/baltic-high-school-baltic-sd-3/
LOCATION:Baltic High School\, 1 Bulldog Avenue\, Baltic\, SD\, 57003\, United States
CATEGORIES:Open to Public
ATTACH;FMTTYPE=image/jpeg:https://cbblifeblood.org/wp-content/uploads/2025/07/shutterstock_1298224348-scaled.jpg
END:VEVENT
END:VCALENDAR