BEGIN:VCALENDAR
VERSION:2.0
PRODID:-//Sioux Falls Community Blood Bank - ECPv6.15.20//NONSGML v1.0//EN
CALSCALE:GREGORIAN
METHOD:PUBLISH
X-ORIGINAL-URL:https://cbblifeblood.org
X-WR-CALDESC:Events for Sioux Falls Community Blood Bank
REFRESH-INTERVAL;VALUE=DURATION:PT1H
X-Robots-Tag:noindex
X-PUBLISHED-TTL:PT1H
BEGIN:VTIMEZONE
TZID:America/Chicago
BEGIN:DAYLIGHT
TZOFFSETFROM:-0600
TZOFFSETTO:-0500
TZNAME:CDT
DTSTART:20240310T080000
END:DAYLIGHT
BEGIN:STANDARD
TZOFFSETFROM:-0500
TZOFFSETTO:-0600
TZNAME:CST
DTSTART:20241103T070000
END:STANDARD
BEGIN:DAYLIGHT
TZOFFSETFROM:-0600
TZOFFSETTO:-0500
TZNAME:CDT
DTSTART:20250309T080000
END:DAYLIGHT
BEGIN:STANDARD
TZOFFSETFROM:-0500
TZOFFSETTO:-0600
TZNAME:CST
DTSTART:20251102T070000
END:STANDARD
BEGIN:DAYLIGHT
TZOFFSETFROM:-0600
TZOFFSETTO:-0500
TZNAME:CDT
DTSTART:20260308T080000
END:DAYLIGHT
BEGIN:STANDARD
TZOFFSETFROM:-0500
TZOFFSETTO:-0600
TZNAME:CST
DTSTART:20261101T070000
END:STANDARD
BEGIN:DAYLIGHT
TZOFFSETFROM:-0600
TZOFFSETTO:-0500
TZNAME:CDT
DTSTART:20270314T080000
END:DAYLIGHT
BEGIN:STANDARD
TZOFFSETFROM:-0500
TZOFFSETTO:-0600
TZNAME:CST
DTSTART:20271107T070000
END:STANDARD
END:VTIMEZONE
BEGIN:VEVENT
DTSTART;TZID=America/Chicago:20260413T073000
DTEND;TZID=America/Chicago:20260413T143000
DTSTAMP:20260420T102034
CREATED:20260309T194355Z
LAST-MODIFIED:20260309T194356Z
UID:10006330-1776065400-1776090600@cbblifeblood.org
SUMMARY:Chester High School\, Chester\, SD
DESCRIPTION:Join in and make the difference in local patients requiring a blood transfusion. Click the link to schedule your donation today: https://www.signupgenius.com/go/chesterhsapril13#/
URL:https://cbblifeblood.org/blood-drive-calendar/chester-high-school-chester-sd-4/
LOCATION:Chester High School\, 102 2nd Avenue\, Chester\, SD\, 57016\, United States
CATEGORIES:Open to Public
ATTACH;FMTTYPE=image/jpeg:https://cbblifeblood.org/wp-content/uploads/2025/09/shutterstock_1315325372-scaled.jpg
END:VEVENT
BEGIN:VEVENT
DTSTART;TZID=America/Chicago:20251119T073000
DTEND;TZID=America/Chicago:20251119T143000
DTSTAMP:20260420T102034
CREATED:20251014T164847Z
LAST-MODIFIED:20251014T164847Z
UID:10006060-1763537400-1763562600@cbblifeblood.org
SUMMARY:Chester High School\, Chester\, SD
DESCRIPTION:Impacting the lives of local patients through blood donation. Click the link to schedule your donation today: https://www.signupgenius.com/go/chesternov19#/
URL:https://cbblifeblood.org/blood-drive-calendar/chester-high-school-chester-sd-3/
LOCATION:Chester High School\, 102 2nd Avenue\, Chester\, SD\, 57016\, United States
CATEGORIES:Open to Public
ATTACH;FMTTYPE=image/jpeg:https://cbblifeblood.org/wp-content/uploads/2025/10/life.jpg
END:VEVENT
END:VCALENDAR