BEGIN:VCALENDAR
VERSION:2.0
PRODID:-//Sioux Falls Community Blood Bank - ECPv6.15.20//NONSGML v1.0//EN
CALSCALE:GREGORIAN
METHOD:PUBLISH
X-WR-CALNAME:Sioux Falls Community Blood Bank
X-ORIGINAL-URL:https://cbblifeblood.org
X-WR-CALDESC:Events for Sioux Falls Community Blood Bank
REFRESH-INTERVAL;VALUE=DURATION:PT1H
X-Robots-Tag:noindex
X-PUBLISHED-TTL:PT1H
BEGIN:VTIMEZONE
TZID:America/Chicago
BEGIN:DAYLIGHT
TZOFFSETFROM:-0600
TZOFFSETTO:-0500
TZNAME:CDT
DTSTART:20250309T080000
END:DAYLIGHT
BEGIN:STANDARD
TZOFFSETFROM:-0500
TZOFFSETTO:-0600
TZNAME:CST
DTSTART:20251102T070000
END:STANDARD
BEGIN:DAYLIGHT
TZOFFSETFROM:-0600
TZOFFSETTO:-0500
TZNAME:CDT
DTSTART:20260308T080000
END:DAYLIGHT
BEGIN:STANDARD
TZOFFSETFROM:-0500
TZOFFSETTO:-0600
TZNAME:CST
DTSTART:20261101T070000
END:STANDARD
BEGIN:DAYLIGHT
TZOFFSETFROM:-0600
TZOFFSETTO:-0500
TZNAME:CDT
DTSTART:20270314T080000
END:DAYLIGHT
BEGIN:STANDARD
TZOFFSETFROM:-0500
TZOFFSETTO:-0600
TZNAME:CST
DTSTART:20271107T070000
END:STANDARD
END:VTIMEZONE
BEGIN:VEVENT
DTSTART;TZID=America/Chicago:20260124T090000
DTEND;TZID=America/Chicago:20260124T120000
DTSTAMP:20260421T070541
CREATED:20251217T191649Z
LAST-MODIFIED:20260121T164618Z
UID:10006182-1769245200-1769256000@cbblifeblood.org
SUMMARY:***Blood Drive Cancelled**Prairie Lakes Health and Wellness Expo\, Codington County Extension Building\, Watertown\, SD
DESCRIPTION:**Blood Drive Cancelled Due to Weather** \nImpacting community patients lives is as easy as scheduling your appointment to donate blood.  Join us by clicking on the link to schedule your donation today:https://www.signupgenius.com/go/plhwexpojan24#/
URL:https://cbblifeblood.org/blood-drive-calendar/prairie-lakes-health-and-wellness-expo-codington-county-extension-building-watertown-sd/
LOCATION:Codington County Extension Complex\, 1910 W. Kemp Ave\, Watertown\, SD\, 57201
CATEGORIES:Open to Public
ATTACH;FMTTYPE=image/png:https://cbblifeblood.org/wp-content/uploads/2025/12/images.png
END:VEVENT
END:VCALENDAR