BEGIN:VCALENDAR
VERSION:2.0
PRODID:-//Sioux Falls Community Blood Bank - ECPv6.15.20//NONSGML v1.0//EN
CALSCALE:GREGORIAN
METHOD:PUBLISH
X-ORIGINAL-URL:https://cbblifeblood.org
X-WR-CALDESC:Events for Sioux Falls Community Blood Bank
REFRESH-INTERVAL;VALUE=DURATION:PT1H
X-Robots-Tag:noindex
X-PUBLISHED-TTL:PT1H
BEGIN:VTIMEZONE
TZID:America/Chicago
BEGIN:DAYLIGHT
TZOFFSETFROM:-0600
TZOFFSETTO:-0500
TZNAME:CDT
DTSTART:20240310T080000
END:DAYLIGHT
BEGIN:STANDARD
TZOFFSETFROM:-0500
TZOFFSETTO:-0600
TZNAME:CST
DTSTART:20241103T070000
END:STANDARD
BEGIN:DAYLIGHT
TZOFFSETFROM:-0600
TZOFFSETTO:-0500
TZNAME:CDT
DTSTART:20250309T080000
END:DAYLIGHT
BEGIN:STANDARD
TZOFFSETFROM:-0500
TZOFFSETTO:-0600
TZNAME:CST
DTSTART:20251102T070000
END:STANDARD
BEGIN:DAYLIGHT
TZOFFSETFROM:-0600
TZOFFSETTO:-0500
TZNAME:CDT
DTSTART:20260308T080000
END:DAYLIGHT
BEGIN:STANDARD
TZOFFSETFROM:-0500
TZOFFSETTO:-0600
TZNAME:CST
DTSTART:20261101T070000
END:STANDARD
END:VTIMEZONE
BEGIN:VEVENT
DTSTART;TZID=America/Chicago:20251110T080000
DTEND;TZID=America/Chicago:20251110T110000
DTSTAMP:20260421T044132
CREATED:20251006T180940Z
LAST-MODIFIED:20251006T180940Z
UID:10006037-1762761600-1762772400@cbblifeblood.org
SUMMARY:Lippert\, Brandon\, SD
DESCRIPTION:Please consider giving blood to save local lives in our community.
URL:https://cbblifeblood.org/blood-drive-calendar/lippert-brandon-sd-4/
LOCATION:Lippert\, 1200 E. Birch Street\, Brandon\, SD\, 57005\, United States
CATEGORIES:Closed to Public
END:VEVENT
BEGIN:VEVENT
DTSTART;TZID=America/Chicago:20250827T080000
DTEND;TZID=America/Chicago:20250827T110000
DTSTAMP:20260421T044132
CREATED:20250721T182706Z
LAST-MODIFIED:20250721T182902Z
UID:10005891-1756281600-1756292400@cbblifeblood.org
SUMMARY:Lippert\, Brandon\, SD
DESCRIPTION:Saving lives in our community and impacting friends\, neighbors\, and community members through blood donation.
URL:https://cbblifeblood.org/blood-drive-calendar/lippert-brandon-sd-3/
LOCATION:Lippert\, 1200 E. Birch Street\, Brandon\, SD\, 57005\, United States
CATEGORIES:Closed to Public
END:VEVENT
END:VCALENDAR