BEGIN:VCALENDAR
VERSION:2.0
PRODID:-//Sioux Falls Community Blood Bank - ECPv6.15.20//NONSGML v1.0//EN
CALSCALE:GREGORIAN
METHOD:PUBLISH
X-WR-CALNAME:Sioux Falls Community Blood Bank
X-ORIGINAL-URL:https://cbblifeblood.org
X-WR-CALDESC:Events for Sioux Falls Community Blood Bank
REFRESH-INTERVAL;VALUE=DURATION:PT1H
X-Robots-Tag:noindex
X-PUBLISHED-TTL:PT1H
BEGIN:VTIMEZONE
TZID:America/Chicago
BEGIN:DAYLIGHT
TZOFFSETFROM:-0600
TZOFFSETTO:-0500
TZNAME:CDT
DTSTART:20240310T080000
END:DAYLIGHT
BEGIN:STANDARD
TZOFFSETFROM:-0500
TZOFFSETTO:-0600
TZNAME:CST
DTSTART:20241103T070000
END:STANDARD
BEGIN:DAYLIGHT
TZOFFSETFROM:-0600
TZOFFSETTO:-0500
TZNAME:CDT
DTSTART:20250309T080000
END:DAYLIGHT
BEGIN:STANDARD
TZOFFSETFROM:-0500
TZOFFSETTO:-0600
TZNAME:CST
DTSTART:20251102T070000
END:STANDARD
BEGIN:DAYLIGHT
TZOFFSETFROM:-0600
TZOFFSETTO:-0500
TZNAME:CDT
DTSTART:20260308T080000
END:DAYLIGHT
BEGIN:STANDARD
TZOFFSETFROM:-0500
TZOFFSETTO:-0600
TZNAME:CST
DTSTART:20261101T070000
END:STANDARD
BEGIN:DAYLIGHT
TZOFFSETFROM:-0600
TZOFFSETTO:-0500
TZNAME:CDT
DTSTART:20270314T080000
END:DAYLIGHT
BEGIN:STANDARD
TZOFFSETFROM:-0500
TZOFFSETTO:-0600
TZNAME:CST
DTSTART:20271107T070000
END:STANDARD
END:VTIMEZONE
BEGIN:VEVENT
DTSTART;TZID=America/Chicago:20260415T080000
DTEND;TZID=America/Chicago:20260415T160000
DTSTAMP:20260419T215243
CREATED:20260310T143719Z
LAST-MODIFIED:20260310T143719Z
UID:10006334-1776240000-1776268800@cbblifeblood.org
SUMMARY:Good Samaritan National Campus\, Sioux Falls\, SD
DESCRIPTION:Making a difference in our community patients one donation at time. Click HERE to schedule your blood donation today!
URL:https://cbblifeblood.org/blood-drive-calendar/good-samaritan-national-campus-sioux-falls-sd-6/
LOCATION:Good Samaritan National Campus\, 4800 W. 57th Street\, Sioux Falls\, SD\, 57117-5038\, United States
CATEGORIES:Closed to Public
END:VEVENT
BEGIN:VEVENT
DTSTART;TZID=America/Chicago:20260107T080000
DTEND;TZID=America/Chicago:20260107T160000
DTSTAMP:20260419T215243
CREATED:20251202T165850Z
LAST-MODIFIED:20251202T165850Z
UID:10006148-1767772800-1767801600@cbblifeblood.org
SUMMARY:Good Samaritan National Campus\, Sioux Falls\, SD
DESCRIPTION:Join us to save the lives of our local patients by donating blood at this community event. Click the link to schedule your donation: https://www.signupgenius.com/go/goodsamjan7#/
URL:https://cbblifeblood.org/blood-drive-calendar/good-samaritan-national-campus-sioux-falls-sd-5/
LOCATION:Good Samaritan National Campus\, 4800 W. 57th Street\, Sioux Falls\, SD\, 57117-5038\, United States
CATEGORIES:Closed to Public
END:VEVENT
BEGIN:VEVENT
DTSTART;TZID=America/Chicago:20251022T080000
DTEND;TZID=America/Chicago:20251022T160000
DTSTAMP:20260419T215243
CREATED:20250915T170151Z
LAST-MODIFIED:20250915T170151Z
UID:10006001-1761120000-1761148800@cbblifeblood.org
SUMMARY:Good Samaritan National Campus\, Sioux Falls\, SD
DESCRIPTION:Impacting community patients lives is as easy as scheduling your appointment to donate blood. Join us by clicking on the link to schedule your donation today: https://www.signupgenius.com/go/goodsamoct22#/
URL:https://cbblifeblood.org/blood-drive-calendar/good-samaritan-national-campus-sioux-falls-sd-4/
LOCATION:Good Samaritan National Campus\, 4800 W. 57th Street\, Sioux Falls\, SD\, 57117-5038\, United States
CATEGORIES:Closed to Public
END:VEVENT
END:VCALENDAR