BEGIN:VCALENDAR
VERSION:2.0
PRODID:-//Sioux Falls Community Blood Bank - ECPv6.15.20//NONSGML v1.0//EN
CALSCALE:GREGORIAN
METHOD:PUBLISH
X-ORIGINAL-URL:https://cbblifeblood.org
X-WR-CALDESC:Events for Sioux Falls Community Blood Bank
REFRESH-INTERVAL;VALUE=DURATION:PT1H
X-Robots-Tag:noindex
X-PUBLISHED-TTL:PT1H
BEGIN:VTIMEZONE
TZID:America/Chicago
BEGIN:DAYLIGHT
TZOFFSETFROM:-0600
TZOFFSETTO:-0500
TZNAME:CDT
DTSTART:20240310T080000
END:DAYLIGHT
BEGIN:STANDARD
TZOFFSETFROM:-0500
TZOFFSETTO:-0600
TZNAME:CST
DTSTART:20241103T070000
END:STANDARD
BEGIN:DAYLIGHT
TZOFFSETFROM:-0600
TZOFFSETTO:-0500
TZNAME:CDT
DTSTART:20250309T080000
END:DAYLIGHT
BEGIN:STANDARD
TZOFFSETFROM:-0500
TZOFFSETTO:-0600
TZNAME:CST
DTSTART:20251102T070000
END:STANDARD
BEGIN:DAYLIGHT
TZOFFSETFROM:-0600
TZOFFSETTO:-0500
TZNAME:CDT
DTSTART:20260308T080000
END:DAYLIGHT
BEGIN:STANDARD
TZOFFSETFROM:-0500
TZOFFSETTO:-0600
TZNAME:CST
DTSTART:20261101T070000
END:STANDARD
BEGIN:DAYLIGHT
TZOFFSETFROM:-0600
TZOFFSETTO:-0500
TZNAME:CDT
DTSTART:20270314T080000
END:DAYLIGHT
BEGIN:STANDARD
TZOFFSETFROM:-0500
TZOFFSETTO:-0600
TZNAME:CST
DTSTART:20271107T070000
END:STANDARD
END:VTIMEZONE
BEGIN:VEVENT
DTSTART;TZID=America/Chicago:20260126T083000
DTEND;TZID=America/Chicago:20260126T110000
DTSTAMP:20260420T021127
CREATED:20251222T200405Z
LAST-MODIFIED:20251222T200405Z
UID:10006185-1769416200-1769425200@cbblifeblood.org
SUMMARY:Heartland Colony\, Lake Benton\, MN
DESCRIPTION:
URL:https://cbblifeblood.org/blood-drive-calendar/heartland-colony-lake-benton-mn-9/
LOCATION:Heartland Colony\, 2171 100th Avenue\, Lake Benton\, SD\, 56149\, United States
END:VEVENT
BEGIN:VEVENT
DTSTART;TZID=America/Chicago:20251124T083000
DTEND;TZID=America/Chicago:20251124T110000
DTSTAMP:20260420T021127
CREATED:20251020T154824Z
LAST-MODIFIED:20251020T154824Z
UID:10006069-1763973000-1763982000@cbblifeblood.org
SUMMARY:Heartland Colony\, Lake Benton\, MN
DESCRIPTION:
URL:https://cbblifeblood.org/blood-drive-calendar/heartland-colony-lake-benton-mn-8/
LOCATION:Heartland Colony\, 2171 100th Avenue\, Lake Benton\, SD\, 56149\, United States
END:VEVENT
BEGIN:VEVENT
DTSTART;TZID=America/Chicago:20250811T083000
DTEND;TZID=America/Chicago:20250811T110000
DTSTAMP:20260420T021127
CREATED:20250707T151940Z
LAST-MODIFIED:20250707T151940Z
UID:10005862-1754901000-1754910000@cbblifeblood.org
SUMMARY:Heartland Colony\, Lake Benton\, MN
DESCRIPTION:
URL:https://cbblifeblood.org/blood-drive-calendar/heartland-colony-lake-benton-mn-7/
LOCATION:Heartland Colony\, 2171 100th Avenue\, Lake Benton\, SD\, 56149\, United States
END:VEVENT
END:VCALENDAR