BEGIN:VCALENDAR
VERSION:2.0
PRODID:-//Sioux Falls Community Blood Bank - ECPv6.15.20//NONSGML v1.0//EN
CALSCALE:GREGORIAN
METHOD:PUBLISH
X-ORIGINAL-URL:https://cbblifeblood.org
X-WR-CALDESC:Events for Sioux Falls Community Blood Bank
REFRESH-INTERVAL;VALUE=DURATION:PT1H
X-Robots-Tag:noindex
X-PUBLISHED-TTL:PT1H
BEGIN:VTIMEZONE
TZID:America/Chicago
BEGIN:DAYLIGHT
TZOFFSETFROM:-0600
TZOFFSETTO:-0500
TZNAME:CDT
DTSTART:20240310T080000
END:DAYLIGHT
BEGIN:STANDARD
TZOFFSETFROM:-0500
TZOFFSETTO:-0600
TZNAME:CST
DTSTART:20241103T070000
END:STANDARD
BEGIN:DAYLIGHT
TZOFFSETFROM:-0600
TZOFFSETTO:-0500
TZNAME:CDT
DTSTART:20250309T080000
END:DAYLIGHT
BEGIN:STANDARD
TZOFFSETFROM:-0500
TZOFFSETTO:-0600
TZNAME:CST
DTSTART:20251102T070000
END:STANDARD
BEGIN:DAYLIGHT
TZOFFSETFROM:-0600
TZOFFSETTO:-0500
TZNAME:CDT
DTSTART:20260308T080000
END:DAYLIGHT
BEGIN:STANDARD
TZOFFSETFROM:-0500
TZOFFSETTO:-0600
TZNAME:CST
DTSTART:20261101T070000
END:STANDARD
END:VTIMEZONE
BEGIN:VEVENT
DTSTART;TZID=America/Chicago:20250801T090000
DTEND;TZID=America/Chicago:20250801T163000
DTSTAMP:20260420T090455
CREATED:20250714T155852Z
LAST-MODIFIED:20250714T155852Z
UID:10005874-1754038800-1754065800@cbblifeblood.org
SUMMARY:Hy-Vee 26th & Sycamore (Fueling Up the Blood Supply)\, Sioux Falls\, SD
DESCRIPTION:Saving the lives of our community patients and providing hope at our Fueling Up the Blood Supply summer event. Click HERE to schedule your appointment now.
URL:https://cbblifeblood.org/blood-drive-calendar/hy-vee-26th-sycamore-fueling-up-the-blood-supply-sioux-falls-sd/
LOCATION:Hy-Vee 26th & Sycamore\, 1601 S. Sycamore Avenue\, Sioux Falls\, SD\, 57110\, United States
CATEGORIES:Open to Public
ATTACH;FMTTYPE=image/jpeg:https://cbblifeblood.org/wp-content/uploads/2025/05/FUELING-PCSMii.jpg
END:VEVENT
END:VCALENDAR