BEGIN:VCALENDAR
VERSION:2.0
PRODID:-//Sioux Falls Community Blood Bank - ECPv6.15.20//NONSGML v1.0//EN
CALSCALE:GREGORIAN
METHOD:PUBLISH
X-ORIGINAL-URL:https://cbblifeblood.org
X-WR-CALDESC:Events for Sioux Falls Community Blood Bank
REFRESH-INTERVAL;VALUE=DURATION:PT1H
X-Robots-Tag:noindex
X-PUBLISHED-TTL:PT1H
BEGIN:VTIMEZONE
TZID:America/Chicago
BEGIN:DAYLIGHT
TZOFFSETFROM:-0600
TZOFFSETTO:-0500
TZNAME:CDT
DTSTART:20240310T080000
END:DAYLIGHT
BEGIN:STANDARD
TZOFFSETFROM:-0500
TZOFFSETTO:-0600
TZNAME:CST
DTSTART:20241103T070000
END:STANDARD
BEGIN:DAYLIGHT
TZOFFSETFROM:-0600
TZOFFSETTO:-0500
TZNAME:CDT
DTSTART:20250309T080000
END:DAYLIGHT
BEGIN:STANDARD
TZOFFSETFROM:-0500
TZOFFSETTO:-0600
TZNAME:CST
DTSTART:20251102T070000
END:STANDARD
BEGIN:DAYLIGHT
TZOFFSETFROM:-0600
TZOFFSETTO:-0500
TZNAME:CDT
DTSTART:20260308T080000
END:DAYLIGHT
BEGIN:STANDARD
TZOFFSETFROM:-0500
TZOFFSETTO:-0600
TZNAME:CST
DTSTART:20261101T070000
END:STANDARD
BEGIN:DAYLIGHT
TZOFFSETFROM:-0600
TZOFFSETTO:-0500
TZNAME:CDT
DTSTART:20270314T080000
END:DAYLIGHT
BEGIN:STANDARD
TZOFFSETFROM:-0500
TZOFFSETTO:-0600
TZNAME:CST
DTSTART:20271107T070000
END:STANDARD
END:VTIMEZONE
BEGIN:VEVENT
DTSTART;TZID=America/Chicago:20260106T080000
DTEND;TZID=America/Chicago:20260106T113000
DTSTAMP:20260419T222133
CREATED:20251202T164049Z
LAST-MODIFIED:20251202T164049Z
UID:10006144-1767686400-1767699000@cbblifeblood.org
SUMMARY:Innovative Office Solutions and Malloy Electric\, Sioux Falls\, SD
DESCRIPTION:Making a difference in our community patients one donation at time.
URL:https://cbblifeblood.org/blood-drive-calendar/innovative-office-solutions-and-malloy-electric-sioux-falls-sd-2/
LOCATION:Malloy Electric\, 711 W. Russell Street\, Sioux Falls\, SD\, 57104\, United States
CATEGORIES:Open to Public
END:VEVENT
BEGIN:VEVENT
DTSTART;TZID=America/Chicago:20250916T080000
DTEND;TZID=America/Chicago:20250916T113000
DTSTAMP:20260419T222133
CREATED:20250813T174348Z
LAST-MODIFIED:20250813T174348Z
UID:10005928-1758009600-1758022200@cbblifeblood.org
SUMMARY:Innovative Office Solutions and Malloy Electric\, Sioux Falls\, SD
DESCRIPTION:Join in to keep our local blood supply strong and saving local patients lives!
URL:https://cbblifeblood.org/blood-drive-calendar/innovative-office-solutions-and-malloy-electric-sioux-falls-sd/
LOCATION:Malloy Electric\, 711 W. Russell Street\, Sioux Falls\, SD\, 57104\, United States
CATEGORIES:Closed to Public
END:VEVENT
END:VCALENDAR