BEGIN:VCALENDAR
VERSION:2.0
PRODID:-//Sioux Falls Community Blood Bank - ECPv6.15.20//NONSGML v1.0//EN
CALSCALE:GREGORIAN
METHOD:PUBLISH
X-WR-CALNAME:Sioux Falls Community Blood Bank
X-ORIGINAL-URL:https://cbblifeblood.org
X-WR-CALDESC:Events for Sioux Falls Community Blood Bank
REFRESH-INTERVAL;VALUE=DURATION:PT1H
X-Robots-Tag:noindex
X-PUBLISHED-TTL:PT1H
BEGIN:VTIMEZONE
TZID:America/Chicago
BEGIN:DAYLIGHT
TZOFFSETFROM:-0600
TZOFFSETTO:-0500
TZNAME:CDT
DTSTART:20240310T080000
END:DAYLIGHT
BEGIN:STANDARD
TZOFFSETFROM:-0500
TZOFFSETTO:-0600
TZNAME:CST
DTSTART:20241103T070000
END:STANDARD
BEGIN:DAYLIGHT
TZOFFSETFROM:-0600
TZOFFSETTO:-0500
TZNAME:CDT
DTSTART:20250309T080000
END:DAYLIGHT
BEGIN:STANDARD
TZOFFSETFROM:-0500
TZOFFSETTO:-0600
TZNAME:CST
DTSTART:20251102T070000
END:STANDARD
BEGIN:DAYLIGHT
TZOFFSETFROM:-0600
TZOFFSETTO:-0500
TZNAME:CDT
DTSTART:20260308T080000
END:DAYLIGHT
BEGIN:STANDARD
TZOFFSETFROM:-0500
TZOFFSETTO:-0600
TZNAME:CST
DTSTART:20261101T070000
END:STANDARD
END:VTIMEZONE
BEGIN:VEVENT
DTSTART;TZID=America/Chicago:20250822T080000
DTEND;TZID=America/Chicago:20250822T133000
DTSTAMP:20260420T131630
CREATED:20250715T173032Z
LAST-MODIFIED:20250730T171620Z
UID:10005886-1755849600-1755869400@cbblifeblood.org
SUMMARY:Midwest ENT & Allergy - Eyes & Ears All American Blood Drive\, Sioux Falls\, SD
DESCRIPTION:Helping our community patients at the most critical time in their lives. Click the link to schedule a donation: https://www.signupgenius.com/go/midwestentaug22#/
URL:https://cbblifeblood.org/blood-drive-calendar/midwest-ent-allergy-eyes-ears-all-american-blood-drive-sioux-falls-sd/
LOCATION:Midwest Ear\, Nose and Throat\, 2315 W. 57th Street\, Sioux Falls\, SD\, 57108\, United States
CATEGORIES:Open to Public
ATTACH;FMTTYPE=image/png:https://cbblifeblood.org/wp-content/uploads/2025/06/community-donor.png
END:VEVENT
END:VCALENDAR