BEGIN:VCALENDAR
VERSION:2.0
PRODID:-//Sioux Falls Community Blood Bank - ECPv6.15.20//NONSGML v1.0//EN
CALSCALE:GREGORIAN
METHOD:PUBLISH
X-ORIGINAL-URL:https://cbblifeblood.org
X-WR-CALDESC:Events for Sioux Falls Community Blood Bank
REFRESH-INTERVAL;VALUE=DURATION:PT1H
X-Robots-Tag:noindex
X-PUBLISHED-TTL:PT1H
BEGIN:VTIMEZONE
TZID:America/Chicago
BEGIN:DAYLIGHT
TZOFFSETFROM:-0600
TZOFFSETTO:-0500
TZNAME:CDT
DTSTART:20240310T080000
END:DAYLIGHT
BEGIN:STANDARD
TZOFFSETFROM:-0500
TZOFFSETTO:-0600
TZNAME:CST
DTSTART:20241103T070000
END:STANDARD
BEGIN:DAYLIGHT
TZOFFSETFROM:-0600
TZOFFSETTO:-0500
TZNAME:CDT
DTSTART:20250309T080000
END:DAYLIGHT
BEGIN:STANDARD
TZOFFSETFROM:-0500
TZOFFSETTO:-0600
TZNAME:CST
DTSTART:20251102T070000
END:STANDARD
BEGIN:DAYLIGHT
TZOFFSETFROM:-0600
TZOFFSETTO:-0500
TZNAME:CDT
DTSTART:20260308T080000
END:DAYLIGHT
BEGIN:STANDARD
TZOFFSETFROM:-0500
TZOFFSETTO:-0600
TZNAME:CST
DTSTART:20261101T070000
END:STANDARD
END:VTIMEZONE
BEGIN:VEVENT
DTSTART;TZID=America/Chicago:20251201T090000
DTEND;TZID=America/Chicago:20251201T113000
DTSTAMP:20260424T034625
CREATED:20251110T152129Z
LAST-MODIFIED:20251110T152130Z
UID:10006106-1764579600-1764588600@cbblifeblood.org
SUMMARY:Montgomery's\, Madison\, SD
DESCRIPTION:Join us to save the lives of our local patients by donating blood at this community event. Click the link to schedule your donation:  https://www.signupgenius.com/go/montgomdec1#/
URL:https://cbblifeblood.org/blood-drive-calendar/montgomerys-madison-sd/
LOCATION:Montgomery’s Madison\, 747 S. Washington Street\, Madison\, SD\, 57042\, United States
CATEGORIES:Open to Public
ATTACH;FMTTYPE=image/jpeg:https://cbblifeblood.org/wp-content/uploads/2025/07/shutterstock_127341926-scaled.jpg
END:VEVENT
BEGIN:VEVENT
DTSTART;TZID=America/Chicago:20250902T130000
DTEND;TZID=America/Chicago:20250902T160000
DTSTAMP:20260424T034625
CREATED:20250729T151438Z
LAST-MODIFIED:20250730T170844Z
UID:10005908-1756818000-1756828800@cbblifeblood.org
SUMMARY:Montgomery's\, Madison\, SD
DESCRIPTION:Join us to provide life-saving blood for local patients in need. Click HERE to schedule your appointment.
URL:https://cbblifeblood.org/blood-drive-calendar/montgomerys-madison-sd-5/
LOCATION:Montgomery’s Madison\, 747 S. Washington Street\, Madison\, SD\, 57042\, United States
CATEGORIES:Open to Public
ATTACH;FMTTYPE=image/jpeg:https://cbblifeblood.org/wp-content/uploads/2025/05/donate-now-scaled-HOTmqG.jpg
END:VEVENT
END:VCALENDAR