BEGIN:VCALENDAR
VERSION:2.0
PRODID:-//Sioux Falls Community Blood Bank - ECPv6.15.20//NONSGML v1.0//EN
CALSCALE:GREGORIAN
METHOD:PUBLISH
X-ORIGINAL-URL:https://cbblifeblood.org
X-WR-CALDESC:Events for Sioux Falls Community Blood Bank
REFRESH-INTERVAL;VALUE=DURATION:PT1H
X-Robots-Tag:noindex
X-PUBLISHED-TTL:PT1H
BEGIN:VTIMEZONE
TZID:America/Chicago
BEGIN:DAYLIGHT
TZOFFSETFROM:-0600
TZOFFSETTO:-0500
TZNAME:CDT
DTSTART:20250309T080000
END:DAYLIGHT
BEGIN:STANDARD
TZOFFSETFROM:-0500
TZOFFSETTO:-0600
TZNAME:CST
DTSTART:20251102T070000
END:STANDARD
BEGIN:DAYLIGHT
TZOFFSETFROM:-0600
TZOFFSETTO:-0500
TZNAME:CDT
DTSTART:20260308T080000
END:DAYLIGHT
BEGIN:STANDARD
TZOFFSETFROM:-0500
TZOFFSETTO:-0600
TZNAME:CST
DTSTART:20261101T070000
END:STANDARD
BEGIN:DAYLIGHT
TZOFFSETFROM:-0600
TZOFFSETTO:-0500
TZNAME:CDT
DTSTART:20270314T080000
END:DAYLIGHT
BEGIN:STANDARD
TZOFFSETFROM:-0500
TZOFFSETTO:-0600
TZNAME:CST
DTSTART:20271107T070000
END:STANDARD
END:VTIMEZONE
BEGIN:VEVENT
DTSTART;TZID=America/Chicago:20260518T090000
DTEND;TZID=America/Chicago:20260518T170000
DTSTAMP:20260420T021110
CREATED:20260414T174127Z
LAST-MODIFIED:20260414T174128Z
UID:10006399-1779094800-1779123600@cbblifeblood.org
SUMMARY:Montgomery's\, Madison\, SD
DESCRIPTION:Impacting the lives of local patients through blood donation. Click the link to schedule your donation today:  https://www.signupgenius.com/go/montgommay18#/
URL:https://cbblifeblood.org/blood-drive-calendar/montgomerys-madison-sd-2/
LOCATION:Montgomery’s Madison\, 747 S. Washington Street\, Madison\, SD\, 57042\, United States
CATEGORIES:Open to Public
ATTACH;FMTTYPE=image/jpeg:https://cbblifeblood.org/wp-content/uploads/2026/04/7D6CF3638A3C9B0278D4D80D79875EEA_80808397.jpg
END:VEVENT
BEGIN:VEVENT
DTSTART;TZID=America/Chicago:20260519T090000
DTEND;TZID=America/Chicago:20260519T170000
DTSTAMP:20260420T021110
CREATED:20260414T175543Z
LAST-MODIFIED:20260414T175545Z
UID:10006402-1779181200-1779210000@cbblifeblood.org
SUMMARY:Montgomery's\, Madison\, SD
DESCRIPTION:We need your help to keep the local blood supply strong in Madison and surrounding communities. Click the link to schedule your donation today:https://www.signupgenius.com/go/montgomerysmay19#/
URL:https://cbblifeblood.org/blood-drive-calendar/montgomerys-madison-sd-3/
LOCATION:Montgomery’s Madison\, 747 S. Washington Street\, Madison\, SD\, 57042\, United States
CATEGORIES:Open to Public
ATTACH;FMTTYPE=image/jpeg:https://cbblifeblood.org/wp-content/uploads/2026/04/Give-blood-red-cells-scaled.jpg
END:VEVENT
END:VCALENDAR