BEGIN:VCALENDAR
VERSION:2.0
PRODID:-//Sioux Falls Community Blood Bank - ECPv6.15.20//NONSGML v1.0//EN
CALSCALE:GREGORIAN
METHOD:PUBLISH
X-WR-CALNAME:Sioux Falls Community Blood Bank
X-ORIGINAL-URL:https://cbblifeblood.org
X-WR-CALDESC:Events for Sioux Falls Community Blood Bank
REFRESH-INTERVAL;VALUE=DURATION:PT1H
X-Robots-Tag:noindex
X-PUBLISHED-TTL:PT1H
BEGIN:VTIMEZONE
TZID:America/Chicago
BEGIN:DAYLIGHT
TZOFFSETFROM:-0600
TZOFFSETTO:-0500
TZNAME:CDT
DTSTART:20240310T080000
END:DAYLIGHT
BEGIN:STANDARD
TZOFFSETFROM:-0500
TZOFFSETTO:-0600
TZNAME:CST
DTSTART:20241103T070000
END:STANDARD
BEGIN:DAYLIGHT
TZOFFSETFROM:-0600
TZOFFSETTO:-0500
TZNAME:CDT
DTSTART:20250309T080000
END:DAYLIGHT
BEGIN:STANDARD
TZOFFSETFROM:-0500
TZOFFSETTO:-0600
TZNAME:CST
DTSTART:20251102T070000
END:STANDARD
BEGIN:DAYLIGHT
TZOFFSETFROM:-0600
TZOFFSETTO:-0500
TZNAME:CDT
DTSTART:20260308T080000
END:DAYLIGHT
BEGIN:STANDARD
TZOFFSETFROM:-0500
TZOFFSETTO:-0600
TZNAME:CST
DTSTART:20261101T070000
END:STANDARD
BEGIN:DAYLIGHT
TZOFFSETFROM:-0600
TZOFFSETTO:-0500
TZNAME:CDT
DTSTART:20270314T080000
END:DAYLIGHT
BEGIN:STANDARD
TZOFFSETFROM:-0500
TZOFFSETTO:-0600
TZNAME:CST
DTSTART:20271107T070000
END:STANDARD
END:VTIMEZONE
BEGIN:VEVENT
DTSTART;TZID=America/Chicago:20260224T080000
DTEND;TZID=America/Chicago:20260224T160000
DTSTAMP:20260421T055525
CREATED:20260119T182622Z
LAST-MODIFIED:20260119T182622Z
UID:10006235-1771920000-1771948800@cbblifeblood.org
SUMMARY:Orthopedic Institute\, Tea\, SD
DESCRIPTION:Help local patients in need requiring a blood transfusion by scheduling your donation today.
URL:https://cbblifeblood.org/blood-drive-calendar/orthopedic-institute-tea-sd/
LOCATION:Orthopedic Institute\, 2120 E. Love stronger street\, Tea\, SD\, 57064\, United States
CATEGORIES:Closed to Public
END:VEVENT
BEGIN:VEVENT
DTSTART;TZID=America/Chicago:20251021T080000
DTEND;TZID=America/Chicago:20251021T160000
DTSTAMP:20260421T055526
CREATED:20250915T165503Z
LAST-MODIFIED:20250915T173529Z
UID:10005999-1761033600-1761062400@cbblifeblood.org
SUMMARY:Orthopedic Institute\, Tea\, SD
DESCRIPTION:Saving lives in our community and impacting friends\, neighbors\, and community members through blood donation.
URL:https://cbblifeblood.org/blood-drive-calendar/orthopedic-institute-all-american-blood-drive-tea-sd/
LOCATION:Orthopedic Institute\, 2120 E. Love stronger street\, Tea\, SD\, 57064\, United States
CATEGORIES:Closed to Public
END:VEVENT
END:VCALENDAR