BEGIN:VCALENDAR
VERSION:2.0
PRODID:-//Sioux Falls Community Blood Bank - ECPv6.15.20//NONSGML v1.0//EN
CALSCALE:GREGORIAN
METHOD:PUBLISH
X-ORIGINAL-URL:https://cbblifeblood.org
X-WR-CALDESC:Events for Sioux Falls Community Blood Bank
REFRESH-INTERVAL;VALUE=DURATION:PT1H
X-Robots-Tag:noindex
X-PUBLISHED-TTL:PT1H
BEGIN:VTIMEZONE
TZID:America/Chicago
BEGIN:DAYLIGHT
TZOFFSETFROM:-0600
TZOFFSETTO:-0500
TZNAME:CDT
DTSTART:20250309T080000
END:DAYLIGHT
BEGIN:STANDARD
TZOFFSETFROM:-0500
TZOFFSETTO:-0600
TZNAME:CST
DTSTART:20251102T070000
END:STANDARD
BEGIN:DAYLIGHT
TZOFFSETFROM:-0600
TZOFFSETTO:-0500
TZNAME:CDT
DTSTART:20260308T080000
END:DAYLIGHT
BEGIN:STANDARD
TZOFFSETFROM:-0500
TZOFFSETTO:-0600
TZNAME:CST
DTSTART:20261101T070000
END:STANDARD
BEGIN:DAYLIGHT
TZOFFSETFROM:-0600
TZOFFSETTO:-0500
TZNAME:CDT
DTSTART:20270314T080000
END:DAYLIGHT
BEGIN:STANDARD
TZOFFSETFROM:-0500
TZOFFSETTO:-0600
TZNAME:CST
DTSTART:20271107T070000
END:STANDARD
END:VTIMEZONE
BEGIN:VEVENT
DTSTART;TZID=America/Chicago:20260407T133000
DTEND;TZID=America/Chicago:20260407T160000
DTSTAMP:20260420T101838
CREATED:20260303T160948Z
LAST-MODIFIED:20260303T160948Z
UID:10006321-1775568600-1775577600@cbblifeblood.org
SUMMARY:Pioneer Memorial Hospital\, Viborg\, SD
DESCRIPTION:Help local patients in need requiring a blood transfusion by scheduling your donation today: https://www.signupgenius.com/go/pioneermemorialapril7#/
URL:https://cbblifeblood.org/blood-drive-calendar/pioneer-memorial-hospital-viborg-sd-5/
LOCATION:Pioneer Memorial Hospital\, 315 N. Washington Street\, Viborg\, SD\, 57070\, United States
CATEGORIES:Open to Public
ATTACH;FMTTYPE=image/jpeg:https://cbblifeblood.org/wp-content/uploads/2026/01/70D58689512735E15C84AFA7921F186A_80808397.jpg
END:VEVENT
BEGIN:VEVENT
DTSTART;TZID=America/Chicago:20260115T080000
DTEND;TZID=America/Chicago:20260115T153000
DTSTAMP:20260420T101838
CREATED:20251209T182636Z
LAST-MODIFIED:20251209T182637Z
UID:10006164-1768464000-1768491000@cbblifeblood.org
SUMMARY:Pioneer Memorial Hospital\, Viborg\, SD
DESCRIPTION:Impacting the lives of our local patients. Click the link to schedule your donation:  https://www.signupgenius.com/go/pionmemjan15#/
URL:https://cbblifeblood.org/blood-drive-calendar/pioneer-memorial-hospital-viborg-sd-4/
LOCATION:Pioneer Memorial Hospital\, 315 N. Washington Street\, Viborg\, SD\, 57070\, United States
CATEGORIES:Open to Public
ATTACH;FMTTYPE=image/jpeg:https://cbblifeblood.org/wp-content/uploads/2025/10/blooddrop.jpg
END:VEVENT
END:VCALENDAR