BEGIN:VCALENDAR
VERSION:2.0
PRODID:-//Sioux Falls Community Blood Bank - ECPv6.15.20//NONSGML v1.0//EN
CALSCALE:GREGORIAN
METHOD:PUBLISH
X-ORIGINAL-URL:https://cbblifeblood.org
X-WR-CALDESC:Events for Sioux Falls Community Blood Bank
REFRESH-INTERVAL;VALUE=DURATION:PT1H
X-Robots-Tag:noindex
X-PUBLISHED-TTL:PT1H
BEGIN:VTIMEZONE
TZID:America/Chicago
BEGIN:DAYLIGHT
TZOFFSETFROM:-0600
TZOFFSETTO:-0500
TZNAME:CDT
DTSTART:20240310T080000
END:DAYLIGHT
BEGIN:STANDARD
TZOFFSETFROM:-0500
TZOFFSETTO:-0600
TZNAME:CST
DTSTART:20241103T070000
END:STANDARD
BEGIN:DAYLIGHT
TZOFFSETFROM:-0600
TZOFFSETTO:-0500
TZNAME:CDT
DTSTART:20250309T080000
END:DAYLIGHT
BEGIN:STANDARD
TZOFFSETFROM:-0500
TZOFFSETTO:-0600
TZNAME:CST
DTSTART:20251102T070000
END:STANDARD
BEGIN:DAYLIGHT
TZOFFSETFROM:-0600
TZOFFSETTO:-0500
TZNAME:CDT
DTSTART:20260308T080000
END:DAYLIGHT
BEGIN:STANDARD
TZOFFSETFROM:-0500
TZOFFSETTO:-0600
TZNAME:CST
DTSTART:20261101T070000
END:STANDARD
END:VTIMEZONE
BEGIN:VEVENT
DTSTART;TZID=America/Chicago:20250815T130000
DTEND;TZID=America/Chicago:20250815T173000
DTSTAMP:20260420T004702
CREATED:20250707T164950Z
LAST-MODIFIED:20250730T172557Z
UID:10005873-1755262800-1755279000@cbblifeblood.org
SUMMARY:Remedy Brewing\, Pint for Pint Blood Drive\, Sioux Falls\, SD
DESCRIPTION:Join us to save the lives of our local patients by donating blood at this community event. Click the link to schedule your donation: https://www.signupgenius.com/go/remedyaug15#/
URL:https://cbblifeblood.org/blood-drive-calendar/remedy-brewing-pint-for-pint-blood-drive-sioux-falls-sd-2/
LOCATION:Remedy Brewing\, 401 E. 8th Street\, Sioux Falls\, SD\, 57103\, United States
CATEGORIES:Open to Public
ATTACH;FMTTYPE=image/jpeg:https://cbblifeblood.org/wp-content/uploads/2023/07/thumbnail_CommunityBloodBank-PintForAPint-1.jpg
END:VEVENT
END:VCALENDAR