BEGIN:VCALENDAR
VERSION:2.0
PRODID:-//Sioux Falls Community Blood Bank - ECPv6.15.20//NONSGML v1.0//EN
CALSCALE:GREGORIAN
METHOD:PUBLISH
X-WR-CALNAME:Sioux Falls Community Blood Bank
X-ORIGINAL-URL:https://cbblifeblood.org
X-WR-CALDESC:Events for Sioux Falls Community Blood Bank
REFRESH-INTERVAL;VALUE=DURATION:PT1H
X-Robots-Tag:noindex
X-PUBLISHED-TTL:PT1H
BEGIN:VTIMEZONE
TZID:America/Chicago
BEGIN:DAYLIGHT
TZOFFSETFROM:-0600
TZOFFSETTO:-0500
TZNAME:CDT
DTSTART:20250309T080000
END:DAYLIGHT
BEGIN:STANDARD
TZOFFSETFROM:-0500
TZOFFSETTO:-0600
TZNAME:CST
DTSTART:20251102T070000
END:STANDARD
BEGIN:DAYLIGHT
TZOFFSETFROM:-0600
TZOFFSETTO:-0500
TZNAME:CDT
DTSTART:20260308T080000
END:DAYLIGHT
BEGIN:STANDARD
TZOFFSETFROM:-0500
TZOFFSETTO:-0600
TZNAME:CST
DTSTART:20261101T070000
END:STANDARD
BEGIN:DAYLIGHT
TZOFFSETFROM:-0600
TZOFFSETTO:-0500
TZNAME:CDT
DTSTART:20270314T080000
END:DAYLIGHT
BEGIN:STANDARD
TZOFFSETFROM:-0500
TZOFFSETTO:-0600
TZNAME:CST
DTSTART:20271107T070000
END:STANDARD
END:VTIMEZONE
BEGIN:VEVENT
DTSTART;TZID=America/Chicago:20260514T070000
DTEND;TZID=America/Chicago:20260514T103000
DTSTAMP:20260420T044952
CREATED:20260408T142542Z
LAST-MODIFIED:20260408T142542Z
UID:10006395-1778742000-1778754600@cbblifeblood.org
SUMMARY:Sanford 32nd & Ellis Clinic\, Flying for Life\, Sioux Falls\, SD
DESCRIPTION:Blood donations are needed to maintain a strong supply for local hospital patients going through serious medical issues.
URL:https://cbblifeblood.org/blood-drive-calendar/sanford-32nd-ellis-clinic-flying-for-life-sioux-falls-sd/
LOCATION:Sanford 32nd & Ellis Clinic\, 2601 S. Ellis Road\, Sioux Falls\, SD\, 57106\, United States
CATEGORIES:Closed to Public
END:VEVENT
END:VCALENDAR