BEGIN:VCALENDAR
VERSION:2.0
PRODID:-//Sioux Falls Community Blood Bank - ECPv6.15.20//NONSGML v1.0//EN
CALSCALE:GREGORIAN
METHOD:PUBLISH
X-ORIGINAL-URL:https://cbblifeblood.org
X-WR-CALDESC:Events for Sioux Falls Community Blood Bank
REFRESH-INTERVAL;VALUE=DURATION:PT1H
X-Robots-Tag:noindex
X-PUBLISHED-TTL:PT1H
BEGIN:VTIMEZONE
TZID:America/Chicago
BEGIN:DAYLIGHT
TZOFFSETFROM:-0600
TZOFFSETTO:-0500
TZNAME:CDT
DTSTART:20240310T080000
END:DAYLIGHT
BEGIN:STANDARD
TZOFFSETFROM:-0500
TZOFFSETTO:-0600
TZNAME:CST
DTSTART:20241103T070000
END:STANDARD
BEGIN:DAYLIGHT
TZOFFSETFROM:-0600
TZOFFSETTO:-0500
TZNAME:CDT
DTSTART:20250309T080000
END:DAYLIGHT
BEGIN:STANDARD
TZOFFSETFROM:-0500
TZOFFSETTO:-0600
TZNAME:CST
DTSTART:20251102T070000
END:STANDARD
BEGIN:DAYLIGHT
TZOFFSETFROM:-0600
TZOFFSETTO:-0500
TZNAME:CDT
DTSTART:20260308T080000
END:DAYLIGHT
BEGIN:STANDARD
TZOFFSETFROM:-0500
TZOFFSETTO:-0600
TZNAME:CST
DTSTART:20261101T070000
END:STANDARD
BEGIN:DAYLIGHT
TZOFFSETFROM:-0600
TZOFFSETTO:-0500
TZNAME:CDT
DTSTART:20270314T080000
END:DAYLIGHT
BEGIN:STANDARD
TZOFFSETFROM:-0500
TZOFFSETTO:-0600
TZNAME:CST
DTSTART:20271107T070000
END:STANDARD
END:VTIMEZONE
BEGIN:VEVENT
DTSTART;TZID=America/Chicago:20260416T080000
DTEND;TZID=America/Chicago:20260416T110000
DTSTAMP:20260420T045127
CREATED:20260310T150829Z
LAST-MODIFIED:20260310T151038Z
UID:10006337-1776326400-1776337200@cbblifeblood.org
SUMMARY:Sanford Jackson Medical Center\, Jackson\, MN
DESCRIPTION:Impacting the lives of local patients through blood donation. Click the link to schedule your donation today:  https://www.signupgenius.com/go/sanfjacksonapril16#/
URL:https://cbblifeblood.org/blood-drive-calendar/sanford-jackson-medical-center-jackson-mn/
LOCATION:Sanford Jackson Medical Center\, 1430 N. Highway\, Jackson\, MN\, 56143\, United States
CATEGORIES:Open to Public
ATTACH;FMTTYPE=image/jpeg:https://cbblifeblood.org/wp-content/uploads/2025/07/shutterstock_472330912-scaled.jpg
END:VEVENT
BEGIN:VEVENT
DTSTART;TZID=America/Chicago:20250819T080000
DTEND;TZID=America/Chicago:20250819T110000
DTSTAMP:20260420T045127
CREATED:20250715T164453Z
LAST-MODIFIED:20250730T173144Z
UID:10005876-1755590400-1755601200@cbblifeblood.org
SUMMARY:Sanford Jackson Medical Center\, All American Blood Drive\, Jackson\, MN
DESCRIPTION:Impacting community patients lives is as easy as scheduling your appointment to donate blood. Join us by clicking on the link to schedule your donation today: https://www.signupgenius.com/go/sanfjacksonaug19#/
URL:https://cbblifeblood.org/blood-drive-calendar/sanford-jackson-medical-center-all-american-blood-drive-jackson-mn/
LOCATION:Sanford Jackson Medical Center\, 1430 N. Highway\, Jackson\, MN\, 56143\, United States
CATEGORIES:Open to Public
ATTACH;FMTTYPE=image/png:https://cbblifeblood.org/wp-content/uploads/2025/06/community-donor.png
END:VEVENT
END:VCALENDAR