BEGIN:VCALENDAR
VERSION:2.0
PRODID:-//Sioux Falls Community Blood Bank - ECPv6.15.20//NONSGML v1.0//EN
CALSCALE:GREGORIAN
METHOD:PUBLISH
X-ORIGINAL-URL:https://cbblifeblood.org
X-WR-CALDESC:Events for Sioux Falls Community Blood Bank
REFRESH-INTERVAL;VALUE=DURATION:PT1H
X-Robots-Tag:noindex
X-PUBLISHED-TTL:PT1H
BEGIN:VTIMEZONE
TZID:America/Chicago
BEGIN:DAYLIGHT
TZOFFSETFROM:-0600
TZOFFSETTO:-0500
TZNAME:CDT
DTSTART:20240310T080000
END:DAYLIGHT
BEGIN:STANDARD
TZOFFSETFROM:-0500
TZOFFSETTO:-0600
TZNAME:CST
DTSTART:20241103T070000
END:STANDARD
BEGIN:DAYLIGHT
TZOFFSETFROM:-0600
TZOFFSETTO:-0500
TZNAME:CDT
DTSTART:20250309T080000
END:DAYLIGHT
BEGIN:STANDARD
TZOFFSETFROM:-0500
TZOFFSETTO:-0600
TZNAME:CST
DTSTART:20251102T070000
END:STANDARD
BEGIN:DAYLIGHT
TZOFFSETFROM:-0600
TZOFFSETTO:-0500
TZNAME:CDT
DTSTART:20260308T080000
END:DAYLIGHT
BEGIN:STANDARD
TZOFFSETFROM:-0500
TZOFFSETTO:-0600
TZNAME:CST
DTSTART:20261101T070000
END:STANDARD
BEGIN:DAYLIGHT
TZOFFSETFROM:-0600
TZOFFSETTO:-0500
TZNAME:CDT
DTSTART:20270314T080000
END:DAYLIGHT
BEGIN:STANDARD
TZOFFSETFROM:-0500
TZOFFSETTO:-0600
TZNAME:CST
DTSTART:20271107T070000
END:STANDARD
END:VTIMEZONE
BEGIN:VEVENT
DTSTART;TZID=America/Chicago:20260327T080000
DTEND;TZID=America/Chicago:20260327T150000
DTSTAMP:20260420T055934
CREATED:20260217T200731Z
LAST-MODIFIED:20260217T200731Z
UID:10006298-1774598400-1774623600@cbblifeblood.org
SUMMARY:Sheldon High School\, Sheldon\, IA
DESCRIPTION:Help local patients in need requiring a blood transfusion.
URL:https://cbblifeblood.org/blood-drive-calendar/sheldon-high-school-sheldon-ia-4/
LOCATION:Sheldon High School\, 1700 E. 4th Street\, Sheldon\, SD\, 51201\, United States
CATEGORIES:Closed to Public
END:VEVENT
BEGIN:VEVENT
DTSTART;TZID=America/Chicago:20251003T080000
DTEND;TZID=America/Chicago:20251003T150000
DTSTAMP:20260420T055935
CREATED:20250826T192725Z
LAST-MODIFIED:20250826T192725Z
UID:10005963-1759478400-1759503600@cbblifeblood.org
SUMMARY:Sheldon High School\, Sheldon\, IA
DESCRIPTION:Saving lives in our community and impacting friends\, neighbors\, and community members through blood donation.
URL:https://cbblifeblood.org/blood-drive-calendar/sheldon-high-school-sheldon-ia-3/
LOCATION:Sheldon High School\, 1700 E. 4th Street\, Sheldon\, SD\, 51201\, United States
CATEGORIES:Closed to Public
END:VEVENT
END:VCALENDAR