BEGIN:VCALENDAR
VERSION:2.0
PRODID:-//Sioux Falls Community Blood Bank - ECPv6.15.20//NONSGML v1.0//EN
CALSCALE:GREGORIAN
METHOD:PUBLISH
X-ORIGINAL-URL:https://cbblifeblood.org
X-WR-CALDESC:Events for Sioux Falls Community Blood Bank
REFRESH-INTERVAL;VALUE=DURATION:PT1H
X-Robots-Tag:noindex
X-PUBLISHED-TTL:PT1H
BEGIN:VTIMEZONE
TZID:America/Chicago
BEGIN:DAYLIGHT
TZOFFSETFROM:-0600
TZOFFSETTO:-0500
TZNAME:CDT
DTSTART:20250309T080000
END:DAYLIGHT
BEGIN:STANDARD
TZOFFSETFROM:-0500
TZOFFSETTO:-0600
TZNAME:CST
DTSTART:20251102T070000
END:STANDARD
BEGIN:DAYLIGHT
TZOFFSETFROM:-0600
TZOFFSETTO:-0500
TZNAME:CDT
DTSTART:20260308T080000
END:DAYLIGHT
BEGIN:STANDARD
TZOFFSETFROM:-0500
TZOFFSETTO:-0600
TZNAME:CST
DTSTART:20261101T070000
END:STANDARD
BEGIN:DAYLIGHT
TZOFFSETFROM:-0600
TZOFFSETTO:-0500
TZNAME:CDT
DTSTART:20270314T080000
END:DAYLIGHT
BEGIN:STANDARD
TZOFFSETFROM:-0500
TZOFFSETTO:-0600
TZNAME:CST
DTSTART:20271107T070000
END:STANDARD
END:VTIMEZONE
BEGIN:VEVENT
DTSTART;TZID=America/Chicago:20260520T073000
DTEND;TZID=America/Chicago:20260520T150000
DTSTAMP:20260420T063508
CREATED:20260415T143031Z
LAST-MODIFIED:20260415T143032Z
UID:10006406-1779262200-1779289200@cbblifeblood.org
SUMMARY:St. Thomas More Catholic Church\, Brookings\, SD
DESCRIPTION:Blood donations are needed to maintain a strong supply for local hospital patients going through serious medical issues. Click the link to save lives: https://www.signupgenius.com/go/stthomasmay20#/
URL:https://cbblifeblood.org/blood-drive-calendar/st-thomas-more-catholic-church-brookings-sd-2/
LOCATION:St. Thomas More Catholic Church\, 1700 8th Street S.\, Brookings\, SD\, 57006\, United States
CATEGORIES:Open to Public
ATTACH;FMTTYPE=image/jpeg:https://cbblifeblood.org/wp-content/uploads/2025/09/shutterstock_1315325372-scaled.jpg
END:VEVENT
END:VCALENDAR