BEGIN:VCALENDAR
VERSION:2.0
PRODID:-//Sioux Falls Community Blood Bank - ECPv6.15.20//NONSGML v1.0//EN
CALSCALE:GREGORIAN
METHOD:PUBLISH
X-WR-CALNAME:Sioux Falls Community Blood Bank
X-ORIGINAL-URL:https://cbblifeblood.org
X-WR-CALDESC:Events for Sioux Falls Community Blood Bank
REFRESH-INTERVAL;VALUE=DURATION:PT1H
X-Robots-Tag:noindex
X-PUBLISHED-TTL:PT1H
BEGIN:VTIMEZONE
TZID:America/Chicago
BEGIN:DAYLIGHT
TZOFFSETFROM:-0600
TZOFFSETTO:-0500
TZNAME:CDT
DTSTART:20240310T080000
END:DAYLIGHT
BEGIN:STANDARD
TZOFFSETFROM:-0500
TZOFFSETTO:-0600
TZNAME:CST
DTSTART:20241103T070000
END:STANDARD
BEGIN:DAYLIGHT
TZOFFSETFROM:-0600
TZOFFSETTO:-0500
TZNAME:CDT
DTSTART:20250309T080000
END:DAYLIGHT
BEGIN:STANDARD
TZOFFSETFROM:-0500
TZOFFSETTO:-0600
TZNAME:CST
DTSTART:20251102T070000
END:STANDARD
BEGIN:DAYLIGHT
TZOFFSETFROM:-0600
TZOFFSETTO:-0500
TZNAME:CDT
DTSTART:20260308T080000
END:DAYLIGHT
BEGIN:STANDARD
TZOFFSETFROM:-0500
TZOFFSETTO:-0600
TZNAME:CST
DTSTART:20261101T070000
END:STANDARD
BEGIN:DAYLIGHT
TZOFFSETFROM:-0600
TZOFFSETTO:-0500
TZNAME:CDT
DTSTART:20270314T080000
END:DAYLIGHT
BEGIN:STANDARD
TZOFFSETFROM:-0500
TZOFFSETTO:-0600
TZNAME:CST
DTSTART:20271107T070000
END:STANDARD
END:VTIMEZONE
BEGIN:VEVENT
DTSTART;TZID=America/Chicago:20260304T130000
DTEND;TZID=America/Chicago:20260304T160000
DTSTAMP:20260420T060006
CREATED:20260127T173806Z
LAST-MODIFIED:20260127T173807Z
UID:10006251-1772629200-1772640000@cbblifeblood.org
SUMMARY:Vance Thompson Vision\, Sioux Falls\, SD
DESCRIPTION:Impacting the lives of our local patients. Click the link to schedule your donation: https://www.signupgenius.com/go/vtvmarch4#/
URL:https://cbblifeblood.org/blood-drive-calendar/vance-thompson-vision-sioux-falls-sd-2/
LOCATION:Vance Thompson Vision\, 3101 W. 57th Street\, Sioux Falls\, SD\, 57108\, United States
CATEGORIES:Open to Public
ATTACH;FMTTYPE=image/jpeg:https://cbblifeblood.org/wp-content/uploads/2025/12/drop.jpg
END:VEVENT
BEGIN:VEVENT
DTSTART;TZID=America/Chicago:20251009T130000
DTEND;TZID=America/Chicago:20251009T160000
DTSTAMP:20260420T060006
CREATED:20250904T143216Z
LAST-MODIFIED:20250904T143217Z
UID:10005976-1760014800-1760025600@cbblifeblood.org
SUMMARY:Vance Thompson Vision\, Sioux Falls\, SD
DESCRIPTION:Making an impact in our community patients is easy by scheduling a blood donation appointment. Click HERE to schedule your appointment now.
URL:https://cbblifeblood.org/blood-drive-calendar/vance-thompson-vision-sioux-falls-sd/
LOCATION:Vance Thompson Vision\, 3101 W. 57th Street\, Sioux Falls\, SD\, 57108\, United States
CATEGORIES:Open to Public
ATTACH;FMTTYPE=image/jpeg:https://cbblifeblood.org/wp-content/uploads/2025/05/shutterstock_1024038709-scaled-r773Tq.jpg
END:VEVENT
END:VCALENDAR