BEGIN:VCALENDAR
VERSION:2.0
PRODID:-//Sioux Falls Community Blood Bank - ECPv6.15.20//NONSGML v1.0//EN
CALSCALE:GREGORIAN
METHOD:PUBLISH
X-ORIGINAL-URL:https://cbblifeblood.org
X-WR-CALDESC:Events for Sioux Falls Community Blood Bank
REFRESH-INTERVAL;VALUE=DURATION:PT1H
X-Robots-Tag:noindex
X-PUBLISHED-TTL:PT1H
BEGIN:VTIMEZONE
TZID:America/Chicago
BEGIN:DAYLIGHT
TZOFFSETFROM:-0600
TZOFFSETTO:-0500
TZNAME:CDT
DTSTART:20240310T080000
END:DAYLIGHT
BEGIN:STANDARD
TZOFFSETFROM:-0500
TZOFFSETTO:-0600
TZNAME:CST
DTSTART:20241103T070000
END:STANDARD
BEGIN:DAYLIGHT
TZOFFSETFROM:-0600
TZOFFSETTO:-0500
TZNAME:CDT
DTSTART:20250309T080000
END:DAYLIGHT
BEGIN:STANDARD
TZOFFSETFROM:-0500
TZOFFSETTO:-0600
TZNAME:CST
DTSTART:20251102T070000
END:STANDARD
BEGIN:DAYLIGHT
TZOFFSETFROM:-0600
TZOFFSETTO:-0500
TZNAME:CDT
DTSTART:20260308T080000
END:DAYLIGHT
BEGIN:STANDARD
TZOFFSETFROM:-0500
TZOFFSETTO:-0600
TZNAME:CST
DTSTART:20261101T070000
END:STANDARD
BEGIN:DAYLIGHT
TZOFFSETFROM:-0600
TZOFFSETTO:-0500
TZNAME:CDT
DTSTART:20270314T080000
END:DAYLIGHT
BEGIN:STANDARD
TZOFFSETFROM:-0500
TZOFFSETTO:-0600
TZNAME:CST
DTSTART:20271107T070000
END:STANDARD
END:VTIMEZONE
BEGIN:VEVENT
DTSTART;TZID=America/Chicago:20260112T090000
DTEND;TZID=America/Chicago:20260112T163000
DTSTAMP:20260420T090456
CREATED:20251209T174627Z
LAST-MODIFIED:20251209T174628Z
UID:10006157-1768208400-1768235400@cbblifeblood.org
SUMMARY:Windom Area Health\, Windom\, MN
DESCRIPTION:Blood donations are needed to maintain a strong supply for local hospital patients going through serious medical issues. Click the link to save lives: https://www.signupgenius.com/go/wahsjan12#/
URL:https://cbblifeblood.org/blood-drive-calendar/windom-area-health-windom-mn/
LOCATION:Windom Area Health\, 2150 Hospital Drive\, Windom\, MN\, 56101\, United States
CATEGORIES:Open to Public
ATTACH;FMTTYPE=image/jpeg:https://cbblifeblood.org/wp-content/uploads/2025/12/glovedblood.jpg
END:VEVENT
BEGIN:VEVENT
DTSTART;TZID=America/Chicago:20250922T090000
DTEND;TZID=America/Chicago:20250922T163000
DTSTAMP:20260420T090456
CREATED:20250819T140059Z
LAST-MODIFIED:20250819T140100Z
UID:10005937-1758531600-1758558600@cbblifeblood.org
SUMMARY:Windom Area Health\, Heroes Behind the Badges\, Windom\, MN
DESCRIPTION:Join us to save the lives of our local patients by donating blood at this community event. Click the link to schedule your donation: https://www.signupgenius.com/go/windomahsep22#/
URL:https://cbblifeblood.org/blood-drive-calendar/windom-area-health-heroes-behind-the-badges-windom-mn-3/
LOCATION:Windom Area Health\, 2150 Hospital Drive\, Windom\, MN\, 56101\, United States
CATEGORIES:Open to Public
ATTACH;FMTTYPE=image/jpeg:https://cbblifeblood.org/wp-content/uploads/2023/11/Shield_5722799-illustration-Blood-Bank_Heros-Behind-the-Badges-Blood-Drive-2X14.jpg
END:VEVENT
END:VCALENDAR